BEGIN:VCALENDAR
VERSION:2.0
PRODID:-//Palm Beach County Convention Center - ECPv6.15.17.1//NONSGML v1.0//EN
CALSCALE:GREGORIAN
METHOD:PUBLISH
X-ORIGINAL-URL:https://www.pbconventioncenter.com
X-WR-CALDESC:Events for Palm Beach County Convention Center
REFRESH-INTERVAL;VALUE=DURATION:PT1H
X-Robots-Tag:noindex
X-PUBLISHED-TTL:PT1H
BEGIN:VTIMEZONE
TZID:UTC
BEGIN:STANDARD
TZOFFSETFROM:+0000
TZOFFSETTO:+0000
TZNAME:UTC
DTSTART:20250101T000000
END:STANDARD
END:VTIMEZONE
BEGIN:VEVENT
DTSTART;VALUE=DATE:20260419
DTEND;VALUE=DATE:20260422
DTSTAMP:20260420T124622
CREATED:20260130T163123Z
LAST-MODIFIED:20260306T163402Z
UID:932-1776556800-1776815999@www.pbconventioncenter.com
SUMMARY:Trendz - Florida Fashion Focus
DESCRIPTION:Florida Fashion Focus\, a sales representative’s association with more than 60 years in the industry\, organizes wholesale order writing shows that are open to the trade only.  TRENDZ is an innovative apparel & accessories market that showcases a wide range of ready-to-wear collections\, accessories\, shoes and gifts. TRENDZ WEST is a ladies’ apparel and accessories show organized by Florida Fashion Focus for the convenience of retailers on the West Coast of Florida from Naples to Tarpon Springs during their busy\, peak season. \n\nAbout TRENDZ\n\n\n\nTRENDZ is a successful\, well-established apparel and accessories show supported by retailers in the Southeast and Caribbean.  TRENDZ is Florida’s largest women’s apparel & accessories show offering lifestyle clothing for the ageless contemporary customer in a convenient\, comfortable\, relaxed and safe environment.
URL:https://www.pbconventioncenter.com/event/trendz-florida-fashion-focus/
LOCATION:Palm Beach County Convention Center\, 650 Okeechobee Blvd.\, West Palm Beach\, FL\, 33401\, United States
ATTACH;FMTTYPE=image/png:https://www.pbconventioncenter.com/wp-content/uploads/2026/01/Events-Website-6-1.png
END:VEVENT
BEGIN:VEVENT
DTSTART;TZID=UTC:20260421T080000
DTEND;TZID=UTC:20260421T163000
DTSTAMP:20260420T124622
CREATED:20251231T174916Z
LAST-MODIFIED:20260306T163549Z
UID:888-1776758400-1776789000@www.pbconventioncenter.com
SUMMARY:Palm Beach Condo & HOA Expo
DESCRIPTION:The Condo & HOA Expo is a one-day\, information-packed event designed for condo/homeowners association board members\, community managers\, and service providers. It’s the premier gathering in the region for education\, networking\, and discovering the latest products and services for managing and maintaining association properties. \nHours:\nSeminars: 8:00 AM – 4:30 PM\nExhibit Hall: 10:00 AM – 3:00 PM \nWhy Attend: \nExpert-led Seminars: Learn from regional and national experts on topics including legal compliance\, financing\, maintenance\, building renovations\, energy efficiency\, and communications.\nMandatory Board Certification Course: A 4-hour course (8:00am–12:00pm) that fulfills Florida’s board certification requirements for condo and HOA board members.\nLegal Updates: Stay current on the latest Florida statutes and how they impact HOA and condo governance.\nNetworking: Connect with hundreds of association professionals\, board members\, and service providers.\nExhibitors: Explore solutions for every need — from landscaping\, repair\, and restoration to accounting\, legal services\, and security. \nCost & Registration: \nRegistration is free for community association managers\, board members\, active HOA members\, and industry professionals.\nYou can register online via the official expo site.
URL:https://www.pbconventioncenter.com/event/palm-beach-condo-hoa-expo-2/
LOCATION:Palm Beach County Convention Center\, 650 Okeechobee Blvd.\, West Palm Beach\, FL\, 33401\, United States
ATTACH;FMTTYPE=image/png:https://www.pbconventioncenter.com/wp-content/uploads/2025/12/Events-Website-33.png
END:VEVENT
BEGIN:VEVENT
DTSTART;VALUE=DATE:20260423
DTEND;VALUE=DATE:20260427
DTSTAMP:20260420T124622
CREATED:20251231T175336Z
LAST-MODIFIED:20260306T164439Z
UID:890-1776902400-1777247999@www.pbconventioncenter.com
SUMMARY:2026 OARSI World Congress on Osteoarthritis
DESCRIPTION:The 2026 OARSI World Congress on Osteoarthritis is the leading international event for researchers\, clinicians\, and healthcare professionals dedicated to advancing the understanding\, treatment\, and management of osteoarthritis. Scheduled for April 2026\, the Congress will feature cutting-edge scientific presentations\, interactive workshops\, and expert-led sessions covering the latest developments in osteoarthritis research\, clinical care\, and emerging therapies. Attendees will have the opportunity to network with global thought leaders\, exchange knowledge\, and explore innovative approaches that improve patient outcomes and advance the field of musculoskeletal health.
URL:https://www.pbconventioncenter.com/event/2026-oarsi-world-congress-on-osteoarthritis/
ATTACH;FMTTYPE=image/png:https://www.pbconventioncenter.com/wp-content/uploads/2025/12/Events-Website-34.png
END:VEVENT
BEGIN:VEVENT
DTSTART;VALUE=DATE:20260424
DTEND;VALUE=DATE:20260427
DTSTAMP:20260420T124622
CREATED:20260130T163926Z
LAST-MODIFIED:20260306T165406Z
UID:939-1776988800-1777247999@www.pbconventioncenter.com
SUMMARY:2026 Men's Eastern National Championships
DESCRIPTION:We are USA Competitions \n\nUSA Competitions is a full-time gymnastics event production company\, dedicated to producing first-class gymnastics competitions. The creation of USA Competitions is a direct result of attending hundreds of competitions\, both good and not-so-good. We felt it was time that someone put the participants\, the athletes\, coaches and parents first.\nUSA Competitions President Randall Sikora is the owner of some of Florida’s largest gymnastics facilities – American Twisters in Coconut Creek\, Twister Gymnastics of Boca Raton as well as a new facility opening in Boynton Beach. Our staff understands the recipe for a great competition\, with well over 100 years of combined experience organizing\, promoting\, managing and running high-quality competitions. \nPremier Events • Incredible Gymnastics • Unforgettable Experiences \nTentative Schedule \n\nFriday April 24 – Level 9\nSaturday April 25 – Level 8\, GymAct Eastern Conference Championships\nSunday April 26 – Level 7\, Level 6JE Future Stars \nSchedule is subject to change. Detailed schedule will be posted once all qualifiers are confirmed after each respective Regional Championship.
URL:https://www.pbconventioncenter.com/event/2026-mens-eastern-national-championships/
LOCATION:Palm Beach County Convention Center\, 650 Okeechobee Blvd.\, West Palm Beach\, FL\, 33401\, United States
ATTACH;FMTTYPE=image/png:https://www.pbconventioncenter.com/wp-content/uploads/2026/01/Events-Website-35.png
END:VEVENT
BEGIN:VEVENT
DTSTART;VALUE=DATE:20260428
DTEND;VALUE=DATE:20260429
DTSTAMP:20260420T124622
CREATED:20260414T150245Z
LAST-MODIFIED:20260414T150441Z
UID:1139-1777334400-1777420799@www.pbconventioncenter.com
SUMMARY:NextEra Energy - SemDev Conference
DESCRIPTION:NextEra Energy\, Inc. (NYSE: NEE) is the largest electric power and energy infrastructure company in North America and is a leading provider of electricity to American homes and businesses. Headquartered in Juno Beach\, Florida\, NextEra Energy is a Fortune 200 company that owns Florida Power & Light Company\, America’s largest electric utility\, which provides reliable electricity to approximately 12 million people across Florida. NextEra Energy also owns one of the largest energy infrastructure development companies in the U.S.\, NextEra Energy Resources\, LLC. NextEra Energy and its affiliated entities are meeting America’s growing energy needs with a diverse mix of energy sources\, including natural gas\, nuclear\, renewable energy and battery storage. \nFor more information about NextEra Energy companies\, visit these websites: www.NextEraEnergy.com\, www.FPL.com\, www.NextEraEnergyResources.com.
URL:https://www.pbconventioncenter.com/event/nextera-energy-semdev-conference/
LOCATION:Palm Beach County Convention Center\, 650 Okeechobee Blvd.\, West Palm Beach\, FL\, 33401\, United States
ATTACH;FMTTYPE=image/png:https://www.pbconventioncenter.com/wp-content/uploads/2026/04/Events-Website-40.png
END:VEVENT
BEGIN:VEVENT
DTSTART;VALUE=DATE:20260429
DTEND;VALUE=DATE:20260502
DTSTAMP:20260420T124622
CREATED:20260414T150917Z
LAST-MODIFIED:20260414T151221Z
UID:1142-1777420800-1777679999@www.pbconventioncenter.com
SUMMARY:Palm Beach County Threat Management Conference
DESCRIPTION:
URL:https://www.pbconventioncenter.com/event/palm-beach-county-threat-management-conference/
ATTACH;FMTTYPE=image/png:https://www.pbconventioncenter.com/wp-content/uploads/2026/04/Events-Website-42.png
END:VEVENT
END:VCALENDAR